BEGIN:VCALENDAR
VERSION:2.0
PRODID:gruene-ulm.de
METHOD:PUBLISH
BEGIN:VTIMEZONE
TZID:Europe/Berlin
X-LIC-LOCATION:Europe/Berlin
BEGIN:DAYLIGHT
TZOFFSETFROM:+0100
TZOFFSETTO:+0200
TZNAME:CEST
DTSTART:19700329T020000
RRULE:FREQ=YEARLY;INTERVAL=1;BYDAY=-1SU;BYMONTH=3
END:DAYLIGHT
BEGIN:STANDARD
TZOFFSETFROM:+0200
TZOFFSETTO:+0100
TZNAME:CET
DTSTART:19701025T030000
RRULE:FREQ=YEARLY;INTERVAL=1;BYDAY=-1SU;BYMONTH=10
END:STANDARD
END:VTIMEZONE
BEGIN:VEVENT
UID:22f0fbbee10b1d4aeb49fcb654d4eba1@gruene-ulm.de
URL;VALUE=URI:https://gruene-ulm.de/termine/infostand-auf-dem-boefinger-w
 ochenmarkt-7/
LOCATION:Wochenmarkt Böfingen
SUMMARY:Infostand auf dem Böfinger Wochenmarkt
DESCRIPTION;ALTREP="data:text/html,%0A%3Cp%3EUnsere%20GR%C3%9CNEN%20Kandi
 dierenden%20f%C3%BCr%20die%20Kommunalwahl%20sind%20auf%20den%20Wochenm%C3
 %A4rkten%20Ulms%20f%C3%BCr%20Ihre%20Fragen%20zur%20Kommunalwahl%20und%20z
 ur%20Europawahl%20ansprechbar.%20Kommen%20Sie%20mit%20uns%20ins%20Gespr%C
 3%A4ch%20%C3%BCber%20Ihre%20und%20unsere%20Ideen%20f%C3%BCr%20Ulm.%20Tref
 fen%20Sie%20uns%20am%20%3Cstrong%3E21.05.2024%3C%2Fstrong%3E%20von%20%3Cs
 trong%3E14-18%20Uhr%3C%2Fstrong%3E%20auf%20dem%20B%C3%B6finger%20Wochenma
 rkt.%3C%2Fp%3E%0A%0A%0A%0A%3Cp%3EUnsere%20GR%C3%9CNE%20Liste%20mit%20alle
 n%20Kandidatinnen%20und%20Kandidaten%20f%C3%BCr%20die%20Kommunalwahl%20fi
 nden%20Sie%20%3Ca%20href%3D%22https%3A%2F%2Fgruene-ulm.de%2Fdie-gruene-li
 ste%2F%22%3Ehier%3C%2Fa%3E.%3C%2Fp%3E%0A":Unsere GRÜNEN Kandidierenden f
 ür die Kommunalwahl sind auf den Wochenmärkten Ulms für Ihre Fragen zu
 r Kommunalwahl und zur Europawahl ansprechbar. Kommen Sie mit uns ins Ges
 präch über Ihre und unsere Ideen für Ulm. Treffen Sie uns am 21.05.202
 4 von 14-18 Uhr auf dem Böfinger Wochenmarkt.\n\nUnsere GRÜNE Liste mit
  allen Kandidatinnen und Kandidaten für die Kommunalwahl finden Sie hier
 .
CLASS:PUBLIC
DTSTART;TZID=Europe/Berlin:20240521T140000
DTEND;TZID=Europe/Berlin:20240521T180000
DTSTAMP:20260423T093231
END:VEVENT
END:VCALENDAR