BEGIN:VCALENDAR
VERSION:2.0
PRODID:gruene-ulm.de
METHOD:PUBLISH
BEGIN:VTIMEZONE
TZID:Europe/Berlin
X-LIC-LOCATION:Europe/Berlin
BEGIN:DAYLIGHT
TZOFFSETFROM:+0100
TZOFFSETTO:+0200
TZNAME:CEST
DTSTART:19700329T020000
RRULE:FREQ=YEARLY;INTERVAL=1;BYDAY=-1SU;BYMONTH=3
END:DAYLIGHT
BEGIN:STANDARD
TZOFFSETFROM:+0200
TZOFFSETTO:+0100
TZNAME:CET
DTSTART:19701025T030000
RRULE:FREQ=YEARLY;INTERVAL=1;BYDAY=-1SU;BYMONTH=10
END:STANDARD
END:VTIMEZONE
BEGIN:VEVENT
UID:44ef7f825ce5ecf2e372d53228a88bc3@gruene-ulm.de
URL;VALUE=URI:https://gruene-ulm.de/termine/verlaesslich-mutig/
LOCATION:Haus der Begegnung, Grüner Hof 7, Ulm
SUMMARY:Mittendrin – wie ermöglichen wir Teilhabe armutsgefährdeter M
 enschen in Ulm?
DESCRIPTION;ALTREP="data:text/html,%0A%3Cp%3EAm%20%3Cstrong%3E9.%20Februa
 r%202023%3C%2Fstrong%3E%20findet%20um%20%3Cstrong%3E19%3A15%20Uhr%20%3C%2
 Fstrong%3Eim%20%3Cstrong%3EHaus%20der%20Begegnung%3C%2Fstrong%3E%20eine%2
 0Veranstaltung%20mit%20der%20Fragestellung%20%E2%80%9EMittendrin%20-%20wi
 e%20erm%C3%B6glichen%20wir%20Teilhabe%20armutsgef%C3%A4hrdeter%20Menschen
 %20in%20Ulm%3F%E2%80%9C%20statt.%20Mit%20diesem%20Themenbaustein%20richte
 n%20wir%20unseren%20kommunalpolitischen%20Blick%20auf%20das%20gesellschaf
 tliche%20Miteinander%20in%20unserer%20Stadt.%20Uns%20bewegt%20die%20Frage
 %2C%20wie%20wir%20Teilhabe%20f%C3%BCr%20B%C3%BCrger%2Ainnen%20erm%C3%B6gl
 ichen%2C%20die%20von%20Armut%20bedroht%20sind%20oder%20bereits%20als%20ar
 m%20gelten.%20In%20Kleingruppen%20diskutieren%20wir%20daf%C3%BCr%20die%20
 aktuelle%20Situation%2C%20Perspektiven%20und%20m%C3%B6gliche%20Ideen%20ve
 rschiedener%2C%20h%C3%A4ufig%20von%20Armut%20betroffener%20Gruppen.%3C%2F
 p%3E%0A%0A%0A%0A%3Cp%3EDie%20Themen%20der%20Kleingruppen%20sind%3A%3C%2Fp
 %3E%0A%0A%0A%0A%3Col%20class%3D%22wp-block-list%22%3E%3Cli%3EMittendrin%2
 0mit%20Behinderung%3C%2Fli%3E%3Cli%3EMittendrin%20mit%20internationalen%2
 0Wurzeln%3C%2Fli%3E%3Cli%3EMittendrin%20ohne%20festen%20Wohnsitz%3C%2Fli%
 3E%3Cli%3EMittendrin%20als%20Kind%3C%2Fli%3E%3Cli%3EMittendrin%20als%20%C
 3%A4lterer%20Mensch%3C%2Fli%3E%3C%2Fol%3E%0A%0A%0A%0A%3Cp%3EEingeladen%20
 sind%20alle%20B%C3%BCrger%2Ainnen%20Ulms%3B%20Interessierte%2C%20Menschen
 %2C%20die%20sich%20beruflich%20mit%20dem%20Thema%20besch%C3%A4ftigen%20ge
 nauso%20wie%20Betroffene.%3C%2Fp%3E%0A%0A%0A%0A%3Cp%3EZur%20thematischen%
 20Vorbereitung%20der%20Veranstaltung%20absolvieren%20die%20Gr%C3%BCnen%20
 Ulmer%20Abgeordneten%20Michael%20Joukov%2C%20MdL%2C%20und%20Marcel%20Emme
 rich%2C%20MdB%2C%20die%20Gr%C3%BCnen%20Stadtr%C3%A4t%2Ainnen%20und%20die%
 20Mitglieder%20des%20Vorstands%20des%20Kreisverbands%20Tagespraktika%20od
 er%20f%C3%BChren%20Gespr%C3%A4che%20in%20verschiedenen%20sozialen%20Organ
 isationen%20Ulms.%3Cbr%3EWir%20bitten%20um%20Anmeldung%20unter%20folgende
 m%20Link%3A%20%3Ca%20rel%3D%22noreferrer%20noopener%22%20href%3D%22https%
 3A%2F%2Fgruenlink.de%2F2me3%22%20target%3D%22_blank%22%3Ehttps%3A%2F%2Fgr
 uenlink.de%2F2me3%3C%2Fa%3E%3C%2Fp%3E%0A":Am 9. Februar 2023 findet um 19
 :15 Uhr im Haus der Begegnung eine Veranstaltung mit der Fragestellung 
 „Mittendrin - wie ermöglichen wir Teilhabe armutsgefährdeter Menschen
  in Ulm?“ statt. Mit diesem Themenbaustein richten wir unseren kommunal
 politischen Blick auf das gesellschaftliche Miteinander in unserer Stadt.
  Uns bewegt die Frage\, wie wir Teilhabe für Bürger*innen ermöglichen\
 , die von Armut bedroht sind oder bereits als arm gelten. In Kleingruppen
  diskutieren wir dafür die aktuelle Situation\, Perspektiven und möglic
 he Ideen verschiedener\, häufig von Armut betroffener Gruppen.\n\nDie Th
 emen der Kleingruppen sind:\n\nMittendrin mit BehinderungMittendrin mit i
 nternationalen WurzelnMittendrin ohne festen WohnsitzMittendrin als KindM
 ittendrin als älterer Mensch\n\nEingeladen sind alle Bürger*innen Ulms\
 ; Interessierte\, Menschen\, die sich beruflich mit dem Thema beschäftig
 en genauso wie Betroffene.\n\nZur thematischen Vorbereitung der Veranstal
 tung absolvieren die Grünen Ulmer Abgeordneten Michael Joukov\, MdL\, un
 d Marcel Emmerich\, MdB\, die Grünen Stadträt*innen und die Mitglieder 
 des Vorstands des Kreisverbands Tagespraktika oder führen Gespräche in 
 verschiedenen sozialen Organisationen Ulms.Wir bitten um Anmeldung unter 
 folgendem Link: https://gruenlink.de/2me3
CLASS:PUBLIC
DTSTART;TZID=Europe/Berlin:20230209T191500
DTEND;TZID=Europe/Berlin:20230209T201500
DTSTAMP:20260425T024944
END:VEVENT
END:VCALENDAR